BEGIN:VCALENDAR
VERSION:2.0
PRODID:-//mrlib.org//NONSGML kigkonsult.se iCalcreator 2.30.10//
CALSCALE:GREGORIAN
METHOD:PUBLISH
UID:d2c6be84-0626-48dd-bb3b-97ea3f05a6b8
X-WR-CALDESC:People of all ages and skill levels can gather to work on thei
 r latest craft projects every 4th Tuesday of the month! Share your creatio
 ns and make new friends!
X-WR-RELCALID:ee319a6f2bf0806977e43a3a704cc340
X-WR-TIMEZONE:America/New_York
BEGIN:VTIMEZONE
TZID:America/New_York
BEGIN:STANDARD
TZNAME:EST
DTSTART:20241103T020000
TZOFFSETFROM:-0400
TZOFFSETTO:-0500
RDATE:20251102T020000
RDATE:20261101T020000
END:STANDARD
BEGIN:DAYLIGHT
TZNAME:EDT
DTSTART:20250309T020000
TZOFFSETFROM:-0500
TZOFFSETTO:-0400
RDATE:20260308T020000
END:DAYLIGHT
END:VTIMEZONE
BEGIN:VEVENT
UID:3a161a87-26c3-47f2-8862-319a5eb89eca
DTSTAMP:20260420T004604Z
DESCRIPTION:People of all ages and skill levels can gather to work on their
  latest craft projects every 4th Tuesday of the month! Share your creation
 s and make new friends!
DTSTART;TZID=America/New_York:20250722T153000
DTEND;TZID=America/New_York:20250722T163000
LOCATION:North River Library\, 118 Mt. Crawford Avenue\, Bridgewater\, VA 2
 2812 US
SUMMARY:Crafting Together @North River Library
END:VEVENT
END:VCALENDAR
