BEGIN:VCALENDAR
VERSION:2.0
PRODID:-//mrlib.org//NONSGML kigkonsult.se iCalcreator 2.30.10//
CALSCALE:GREGORIAN
METHOD:PUBLISH
UID:ce5ca4ae-083c-4270-8841-3a2a55b92d82
X-WR-CALDESC:3-5 year olds and their caregivers are invited to hear stories
 \, sing songs\, and participate in fun activities that promote school read
 iness.
X-WR-RELCALID:f19fa9b1affc432fd326613c2a810179
X-WR-TIMEZONE:America/New_York
BEGIN:VTIMEZONE
TZID:America/New_York
BEGIN:STANDARD
TZNAME:EST
DTSTART:20241103T020000
TZOFFSETFROM:-0400
TZOFFSETTO:-0500
RDATE:20251102T020000
RDATE:20261101T020000
END:STANDARD
BEGIN:DAYLIGHT
TZNAME:EDT
DTSTART:20250309T020000
TZOFFSETFROM:-0500
TZOFFSETTO:-0400
RDATE:20260308T020000
END:DAYLIGHT
END:VTIMEZONE
BEGIN:VEVENT
UID:f0034a59-9a9e-4378-98d0-3b1437127abd
DTSTAMP:20260420T005012Z
DESCRIPTION:3-5 year olds and their caregivers are invited to hear stories\
 , sing songs\, and participate in fun activities that promote school readi
 ness.
DTSTART;TZID=America/New_York:20250723T110000
DTEND;TZID=America/New_York:20250723T113000
LOCATION:Central Library\, 174 S. Main St.\, Harrisonburg\, VA 22801 US
SUMMARY:Playful Preschoolers @ Central Library
END:VEVENT
END:VCALENDAR
