BEGIN:VCALENDAR
VERSION:2.0
PRODID:-//mrlib.org//NONSGML kigkonsult.se iCalcreator 2.30.10//
CALSCALE:GREGORIAN
METHOD:PUBLISH
UID:d1f6ab75-8329-4fd9-a82d-4bfe6c4805be
X-WR-CALDESC:Meet Chris Baker\, a Clinical Master Herbalist and farmer\, as
  we listen to stories and learn about farm animals\, healthy food\, and mu
 ch more - including making our own tea blend! \n\nChris is the owner of To
 chnoma Farm\, based out of Augusta\, West Virginia. She received her certi
 fication for Clinical Master Herbalism through Vintage Remedies School of 
 Natural Health. Chris also has certifications from One World Healing Commu
 nity as a Community Herbalist and Family Herbalist\, and she's a trained a
 nd certified Community Health Educational Resource Person (CHERP) through 
 the WV School of Osteopathic Medicine. She raises herbs\, chickens\, and s
 heep\, teaches piano lessons\, and makes soaps/lotions. Chris hasn't alway
 s been a farmer\, though - she was also a school librarian\, substitute te
 acher\, and a stay-at-home mom! She has two grown daughters and two grandb
 abies.
X-WR-RELCALID:63788dc740e13719ccaec1d8808ed455
X-WR-TIMEZONE:America/New_York
BEGIN:VTIMEZONE
TZID:America/New_York
BEGIN:STANDARD
TZNAME:EST
DTSTART:20241103T020000
TZOFFSETFROM:-0400
TZOFFSETTO:-0500
RDATE:20251102T020000
RDATE:20261101T020000
END:STANDARD
BEGIN:DAYLIGHT
TZNAME:EDT
DTSTART:20250309T020000
TZOFFSETFROM:-0500
TZOFFSETTO:-0400
RDATE:20260308T020000
END:DAYLIGHT
END:VTIMEZONE
BEGIN:VEVENT
UID:3355c4ba-4cfc-400e-8736-95c088bfd242
DTSTAMP:20260420T005013Z
DESCRIPTION:Meet Chris Baker\, a Clinical Master Herbalist and farmer\, as 
 we listen to stories and learn about farm animals\, healthy food\, and muc
 h more - including making our own tea blend! \n\nChris is the owner of Toc
 hnoma Farm\, based out of Augusta\, West Virginia. She received her certif
 ication for Clinical Master Herbalism through Vintage Remedies School of N
 atural Health. Chris also has certifications from One World Healing Commun
 ity as a Community Herbalist and Family Herbalist\, and she's a trained an
 d certified Community Health Educational Resource Person (CHERP) through t
 he WV School of Osteopathic Medicine. She raises herbs\, chickens\, and sh
 eep\, teaches piano lessons\, and makes soaps/lotions. Chris hasn't always
  been a farmer\, though - she was also a school librarian\, substitute tea
 cher\, and a stay-at-home mom! She has two grown daughters and two grandba
 bies.
DTSTART;TZID=America/New_York:20250724T110000
DTEND;TZID=America/New_York:20250724T120000
LOCATION:Central Library\, 174 S. Main St.\, Harrisonburg\, VA 22801 US
SUMMARY:Herbalist Story Time @Central Library
END:VEVENT
END:VCALENDAR
