BEGIN:VCALENDAR
VERSION:2.0
PRODID:-//mrlib.org//NONSGML kigkonsult.se iCalcreator 2.30.10//
CALSCALE:GREGORIAN
METHOD:PUBLISH
UID:d67b2305-7df2-4e1a-bdf6-0ac0635fbaee
X-WR-CALDESC:Kids ages 4-12: learn about money and currency with two fun ga
 mes - Piggy Bank Theater and Pet Cents!\n\nThinking Money for Kids is made
  possible through the American Library Association (ALA).
X-WR-RELCALID:b48689792019a4b19fe13efe051e1c59
X-WR-TIMEZONE:America/New_York
BEGIN:VTIMEZONE
TZID:America/New_York
BEGIN:STANDARD
TZNAME:EST
DTSTART:20241103T020000
TZOFFSETFROM:-0400
TZOFFSETTO:-0500
RDATE:20251102T020000
RDATE:20261101T020000
END:STANDARD
BEGIN:DAYLIGHT
TZNAME:EDT
DTSTART:20250309T020000
TZOFFSETFROM:-0500
TZOFFSETTO:-0400
RDATE:20260308T020000
END:DAYLIGHT
END:VTIMEZONE
BEGIN:VEVENT
UID:7882acf1-2a69-49eb-a705-15f457450ad5
DTSTAMP:20260420T004830Z
DESCRIPTION:Kids ages 4-12: learn about money and currency with two fun gam
 es - Piggy Bank Theater and Pet Cents!\n\nThinking Money for Kids is made 
 possible through the American Library Association (ALA).
DTSTART;TZID=America/New_York:20250724T150000
DTEND;TZID=America/New_York:20250724T160000
LOCATION:Page Public Library\, 100 Zerkel Street\, Luray\, VA 22835 US
SUMMARY:Game Time: Thinking Money for Kids @Page Public Library
END:VEVENT
END:VCALENDAR
