BEGIN:VCALENDAR
VERSION:2.0
PRODID:-//mrlib.org//NONSGML kigkonsult.se iCalcreator 2.30.10//
CALSCALE:GREGORIAN
METHOD:PUBLISH
UID:29ba8869-6d3a-46a3-ad87-2a3b672542a8
X-WR-CALDESC:Kids ages 4-12: learn about money and currency with two fun ga
 mes - Penny Pincher's Party and Making Moolah!\n\nThinking Money for Kids 
 is made possible through the American Library Association (ALA).
X-WR-RELCALID:85f98d11603733c8a0135fc9780a817b
X-WR-TIMEZONE:America/New_York
BEGIN:VTIMEZONE
TZID:America/New_York
BEGIN:STANDARD
TZNAME:EST
DTSTART:20241103T020000
TZOFFSETFROM:-0400
TZOFFSETTO:-0500
RDATE:20251102T020000
RDATE:20261101T020000
END:STANDARD
BEGIN:DAYLIGHT
TZNAME:EDT
DTSTART:20250309T020000
TZOFFSETFROM:-0500
TZOFFSETTO:-0400
RDATE:20260308T020000
END:DAYLIGHT
END:VTIMEZONE
BEGIN:VEVENT
UID:c6eb6e44-ba6f-4d58-a89b-dc79e792906e
DTSTAMP:20260420T004547Z
DESCRIPTION:Kids ages 4-12: learn about money and currency with two fun gam
 es - Penny Pincher's Party and Making Moolah!\n\nThinking Money for Kids i
 s made possible through the American Library Association (ALA).
DTSTART;TZID=America/New_York:20250726T130000
DTEND;TZID=America/New_York:20250726T140000
LOCATION:Central Library\, 174 S. Main Street\, Harrisonburg\, VA 22801 US
SUMMARY:Game Time: Thinking Money for Kids @Central Library
END:VEVENT
END:VCALENDAR
