BEGIN:VCALENDAR
VERSION:2.0
PRODID:-//mrlib.org//NONSGML kigkonsult.se iCalcreator 2.30.10//
CALSCALE:GREGORIAN
METHOD:PUBLISH
UID:cec454c9-ff93-404d-a993-32722c323e22
X-WR-CALDESC:Kids: drop in to Shenandoah Community Library between 10 AM an
 d 2 PM to create cloud spotters and learn how to identify several types of
  clouds and weather!
X-WR-RELCALID:df5946408b0cb97411a71e4d21b61f69
X-WR-TIMEZONE:America/New_York
BEGIN:VTIMEZONE
TZID:America/New_York
BEGIN:STANDARD
TZNAME:EST
DTSTART:20241103T020000
TZOFFSETFROM:-0400
TZOFFSETTO:-0500
RDATE:20251102T020000
RDATE:20261101T020000
END:STANDARD
BEGIN:DAYLIGHT
TZNAME:EDT
DTSTART:20250309T020000
TZOFFSETFROM:-0500
TZOFFSETTO:-0400
RDATE:20260308T020000
END:DAYLIGHT
END:VTIMEZONE
BEGIN:VEVENT
UID:1a09cfa9-9ae7-4144-a0ae-42c576b5851b
DTSTAMP:20260420T005210Z
DESCRIPTION:Kids: drop in to Shenandoah Community Library between 10 AM and
  2 PM to create cloud spotters and learn how to identify several types of 
 clouds and weather!
DTSTART;TZID=America/New_York:20250726T100000
DTEND;TZID=America/New_York:20250726T140000
LOCATION:Shenandoah Community Library\, 418 S. Third Street\, Shenandoah\, 
 VA 22849 US
SUMMARY:What's the Forecast in Shenandoah? @Shenandoah Community Library
END:VEVENT
END:VCALENDAR
