BEGIN:VCALENDAR
VERSION:2.0
PRODID:-//mrlib.org//NONSGML kigkonsult.se iCalcreator 2.30.10//
CALSCALE:GREGORIAN
METHOD:PUBLISH
UID:eda360b8-d6d4-4e63-bfa8-f93c492ad5de
X-WR-CALDESC:Kids ages 0-5: join Miss Stephani for a fun garden-themed Stor
 y Time and tour around the beautiful community garden\, led by a member of
  the Northern Shenandoah Valley Master Gardeners!
X-WR-RELCALID:977f21d8c61cb38780fef0f2c554516a
X-WR-TIMEZONE:America/New_York
BEGIN:VTIMEZONE
TZID:America/New_York
BEGIN:STANDARD
TZNAME:EST
DTSTART:20241103T020000
TZOFFSETFROM:-0400
TZOFFSETTO:-0500
RDATE:20251102T020000
RDATE:20261101T020000
END:STANDARD
BEGIN:DAYLIGHT
TZNAME:EDT
DTSTART:20250309T020000
TZOFFSETFROM:-0500
TZOFFSETTO:-0400
RDATE:20260308T020000
END:DAYLIGHT
END:VTIMEZONE
BEGIN:VEVENT
UID:bce0a4e1-4640-44b7-905e-c7efa87e4078
DTSTAMP:20260420T005651Z
DESCRIPTION:Kids ages 0-5: join Miss Stephani for a fun garden-themed Story
  Time and tour around the beautiful community garden\, led by a member of 
 the Northern Shenandoah Valley Master Gardeners!
DTSTART;TZID=America/New_York:20250729T090000
DTEND;TZID=America/New_York:20250729T100000
LOCATION:Shenandoah Community Garden at Valley Health Family Medicine\, 505
  Williams Ave.\, Shenandoah\, VA 22849 US
SUMMARY:Community Garden Story Time @Valley Health Family Medicine
END:VEVENT
END:VCALENDAR
