BEGIN:VCALENDAR
VERSION:2.0
PRODID:-//mrlib.org//NONSGML kigkonsult.se iCalcreator 2.30.10//
CALSCALE:GREGORIAN
METHOD:PUBLISH
UID:b44ee7d3-4db3-4ce9-977e-57b57ac0a4ca
X-WR-CALDESC:Alaina Pfeiffer\, a dance instructor at InMotion School of Dan
 ce\, will read stories and demonstrate the art of dance during a special S
 tory Time!
X-WR-RELCALID:6664af514dc5b88bc95b234858f4f6f3
X-WR-TIMEZONE:America/New_York
BEGIN:VTIMEZONE
TZID:America/New_York
BEGIN:STANDARD
TZNAME:EST
DTSTART:20241103T020000
TZOFFSETFROM:-0400
TZOFFSETTO:-0500
RDATE:20251102T020000
RDATE:20261101T020000
END:STANDARD
BEGIN:DAYLIGHT
TZNAME:EDT
DTSTART:20250309T020000
TZOFFSETFROM:-0500
TZOFFSETTO:-0400
RDATE:20260308T020000
END:DAYLIGHT
END:VTIMEZONE
BEGIN:VEVENT
UID:222176ee-82fb-4d4b-924c-7479f6ec3358
DTSTAMP:20260420T004938Z
DESCRIPTION:Alaina Pfeiffer\, a dance instructor at InMotion School of Danc
 e\, will read stories and demonstrate the art of dance during a special St
 ory Time!
DTSTART;TZID=America/New_York:20250731T101500
DTEND;TZID=America/New_York:20250731T104500
LOCATION:North River Library\, 118 Mt. Crawford Avenue\, Bridgewater\, VA 2
 2812 US
SUMMARY:Story Time with Dance Instructor Alaina @North River Library
END:VEVENT
END:VCALENDAR
