BEGIN:VCALENDAR
VERSION:2.0
PRODID:-//mrlib.org//NONSGML kigkonsult.se iCalcreator 2.30.10//
CALSCALE:GREGORIAN
METHOD:PUBLISH
UID:cb60ca9c-adee-47ac-afe9-a6bfb75b7d89
X-WR-CALDESC:Join us for a special Story Time with Costumed Interpreters fr
 om the Frontier Culture Museum! We'll read books\, sing songs\, play histo
 rical games\, and create our own corn husk dolls!
X-WR-RELCALID:82ee6205ef37f0e2bb10f3bec11a4fcd
X-WR-TIMEZONE:America/New_York
BEGIN:VTIMEZONE
TZID:America/New_York
BEGIN:STANDARD
TZNAME:EST
DTSTART:20241103T020000
TZOFFSETFROM:-0400
TZOFFSETTO:-0500
RDATE:20251102T020000
RDATE:20261101T020000
END:STANDARD
BEGIN:DAYLIGHT
TZNAME:EDT
DTSTART:20250309T020000
TZOFFSETFROM:-0500
TZOFFSETTO:-0400
RDATE:20260308T020000
END:DAYLIGHT
END:VTIMEZONE
BEGIN:VEVENT
UID:c09b7e62-5939-46fc-a7f0-2bd2679aa313
DTSTAMP:20260420T005536Z
DESCRIPTION:Join us for a special Story Time with Costumed Interpreters fro
 m the Frontier Culture Museum! We'll read books\, sing songs\, play histor
 ical games\, and create our own corn husk dolls!
DTSTART;TZID=America/New_York:20250731T110000
DTEND;TZID=America/New_York:20250731T120000
LOCATION:Central Library\, 174 S. Main St.\, Harrisonburg\, VA 22801 US
SUMMARY:Story Time with the Frontier Culture Museum @Central Library
END:VEVENT
END:VCALENDAR
