BEGIN:VCALENDAR
VERSION:2.0
PRODID:-//mrlib.org//NONSGML kigkonsult.se iCalcreator 2.30.10//
CALSCALE:GREGORIAN
METHOD:PUBLISH
UID:70883547-12f5-4e49-9afd-27cf42838511
X-WR-CALDESC:K-5 kids: learn the basics of electricity with shockingly fun 
 Snap Circuit kits!
X-WR-RELCALID:07943496ffb59a54867b05bf81f70c2b
X-WR-TIMEZONE:America/New_York
BEGIN:VTIMEZONE
TZID:America/New_York
BEGIN:STANDARD
TZNAME:EST
DTSTART:20241103T020000
TZOFFSETFROM:-0400
TZOFFSETTO:-0500
RDATE:20251102T020000
RDATE:20261101T020000
END:STANDARD
BEGIN:DAYLIGHT
TZNAME:EDT
DTSTART:20250309T020000
TZOFFSETFROM:-0500
TZOFFSETTO:-0400
RDATE:20260308T020000
END:DAYLIGHT
END:VTIMEZONE
BEGIN:VEVENT
UID:6b12f237-f7f8-4a87-83ca-8f4e7cad66b3
DTSTAMP:20260420T004409Z
DESCRIPTION:K-5 kids: learn the basics of electricity with shockingly fun S
 nap Circuit kits!
DTSTART;TZID=America/New_York:20250731T160000
DTEND;TZID=America/New_York:20250731T170000
LOCATION:Central Library\, 174 S. Main Street\, Harrisonburg\, VA 22801 US
SUMMARY:Electrifying Snap Circuits @Central Library
END:VEVENT
END:VCALENDAR
