BEGIN:VCALENDAR
VERSION:2.0
PRODID:-//mrlib.org//NONSGML kigkonsult.se iCalcreator 2.30.10//
CALSCALE:GREGORIAN
METHOD:PUBLISH
UID:4f99801f-94d5-443b-b48a-3dad36e4caf7
X-WR-CALDESC:Celebrate our favorite boy wizard's birthday with fun for the 
 whole family at Feel the Rain Brothers Brew Co. on Saturday\, August 2nd\,
  starting at noon! There will be crafts for kids until 6pm (or until suppl
 ies last)\, bingo for a chance to win a prize\, a movie marathon\, both no
 n-alcoholic and alcoholic Butterbeer for sale\, and Harry Potter-themed fo
 od\, too (check out the menus below)! Plus\, part of Butterbeer sales for 
 the day will be donated to MRL\, thanks to our good - and generous - frien
 ds at Brothers!\n\nAdults can also test their Harry Potter knowledge in a 
 special HP Trivia co-hosted by MRL! Come show your House colors while show
 ing support of MRL and a great\, community-focused local business and help
  us wish Harry the happiest of birthdays!
X-WR-RELCALID:ae62505cf00ff4a27493d4d59f448aef
X-WR-TIMEZONE:America/New_York
BEGIN:VTIMEZONE
TZID:America/New_York
BEGIN:STANDARD
TZNAME:EST
DTSTART:20241103T020000
TZOFFSETFROM:-0400
TZOFFSETTO:-0500
RDATE:20251102T020000
RDATE:20261101T020000
END:STANDARD
BEGIN:DAYLIGHT
TZNAME:EDT
DTSTART:20250309T020000
TZOFFSETFROM:-0500
TZOFFSETTO:-0400
RDATE:20260308T020000
END:DAYLIGHT
END:VTIMEZONE
BEGIN:VEVENT
UID:47380c5f-a7ea-4641-bfdd-1d7dc3a6f08f
DTSTAMP:20260419T230240Z
DESCRIPTION:Celebrate our favorite boy wizard's birthday with fun for the w
 hole family at Feel the Rain Brothers Brew Co. on Saturday\, August 2nd\, 
 starting at noon! There will be crafts for kids until 6pm (or until suppli
 es last)\, bingo for a chance to win a prize\, a movie marathon\, both non
 -alcoholic and alcoholic Butterbeer for sale\, and Harry Potter-themed foo
 d\, too (check out the menus below)! Plus\, part of Butterbeer sales for t
 he day will be donated to MRL\, thanks to our good - and generous - friend
 s at Brothers!\n\nAdults can also test their Harry Potter knowledge in a s
 pecial HP Trivia co-hosted by MRL! Come show your House colors while showi
 ng support of MRL and a great\, community-focused local business and help 
 us wish Harry the happiest of birthdays!
DTSTART;TZID=America/New_York:20250802T120000
DTEND;TZID=America/New_York:20250802T180000
LOCATION:Feel the Rain Brothers Brew Co.\, 800 N. Main St.\, Harrisonburg\,
  VA 22802 US
SUMMARY:Harry Potter Birthday Bash @Feel the Rain Brothers Brew Co.
END:VEVENT
END:VCALENDAR
