BEGIN:VCALENDAR
VERSION:2.0
PRODID:-//mrlib.org//NONSGML kigkonsult.se iCalcreator 2.30.10//
CALSCALE:GREGORIAN
METHOD:PUBLISH
UID:23a64ee5-f398-4f3d-87c2-e14c7c3acca4
X-WR-CALDESC:K-5 kids: join us to make amazing paper creations for all skil
 l levels!
X-WR-RELCALID:e93ab8a2eb8d3681d5034fc46844f143
X-WR-TIMEZONE:America/New_York
BEGIN:VTIMEZONE
TZID:America/New_York
BEGIN:STANDARD
TZNAME:EST
DTSTART:20241103T020000
TZOFFSETFROM:-0400
TZOFFSETTO:-0500
RDATE:20251102T020000
RDATE:20261101T020000
END:STANDARD
BEGIN:DAYLIGHT
TZNAME:EDT
DTSTART:20250309T020000
TZOFFSETFROM:-0500
TZOFFSETTO:-0400
RDATE:20260308T020000
END:DAYLIGHT
END:VTIMEZONE
BEGIN:VEVENT
UID:e1dddeea-5c37-4236-9191-d0b88545aa2c
DTSTAMP:20260419T225537Z
DESCRIPTION:K-5 kids: join us to make amazing paper creations for all skill
  levels!
DTSTART;TZID=America/New_York:20250802T110000
DTEND;TZID=America/New_York:20250802T120000
LOCATION:Shenandoah Community Library\, 418 S. Third Street\, Shenandoah\, 
 VA 22801 US
SUMMARY:Origami Madness @Shenandoah Community Library
END:VEVENT
END:VCALENDAR
