BEGIN:VCALENDAR
VERSION:2.0
PRODID:-//mrlib.org//NONSGML kigkonsult.se iCalcreator 2.30.10//
CALSCALE:GREGORIAN
METHOD:PUBLISH
UID:4e316dbe-74b2-4395-881d-0e9a3a8c367b
X-WR-CALDESC:All ages are invited to celebrate the end of the Summer Readin
 g Challenge with us at Sage Bird Ciderworks in Harrisonburg! Both alcoholi
 c and non-alcoholic drinks will be available for purchase\, and a food tru
 ck will be on site. Enjoy fun crafts\, build your TBR list with recommenda
 tions from others\, get read-alike suggestions for the most-read books of 
 the Summer Reading Challenge\, and browse a market with bookish items from
  local vendors!
X-WR-RELCALID:0f6126660a459f11648160b236dc0977
X-WR-TIMEZONE:America/New_York
BEGIN:VTIMEZONE
TZID:America/New_York
BEGIN:STANDARD
TZNAME:EST
DTSTART:20241103T020000
TZOFFSETFROM:-0400
TZOFFSETTO:-0500
RDATE:20251102T020000
RDATE:20261101T020000
END:STANDARD
BEGIN:DAYLIGHT
TZNAME:EDT
DTSTART:20250309T020000
TZOFFSETFROM:-0500
TZOFFSETTO:-0400
RDATE:20260308T020000
END:DAYLIGHT
END:VTIMEZONE
BEGIN:VEVENT
UID:b566c25b-c797-4cdc-8969-9e32f73113c2
DTSTAMP:20260419T224213Z
DESCRIPTION:All ages are invited to celebrate the end of the Summer Reading
  Challenge with us at Sage Bird Ciderworks in Harrisonburg! Both alcoholic
  and non-alcoholic drinks will be available for purchase\, and a food truc
 k will be on site. Enjoy fun crafts\, build your TBR list with recommendat
 ions from others\, get read-alike suggestions for the most-read books of t
 he Summer Reading Challenge\, and browse a market with bookish items from 
 local vendors!
DTSTART;TZID=America/New_York:20250803T120000
DTEND;TZID=America/New_York:20250803T150000
LOCATION:Sage Bird Ciderworks\, 325 N. Liberty Street\, Harrisonburg\, VA 2
 2802 US
SUMMARY:Summer Reading Celebration @Sage Bird Ciderworks
END:VEVENT
END:VCALENDAR
