BEGIN:VCALENDAR
VERSION:2.0
PRODID:-//mrlib.org//NONSGML kigkonsult.se iCalcreator 2.30.10//
CALSCALE:GREGORIAN
METHOD:PUBLISH
UID:68376e6b-bb98-4010-a0e2-d3a4804cf63e
X-WR-CALDESC:Enjoy special stories and check out a cool police car with the
  Luray Police Department at our final special Story Time of the Summer Rea
 ding Challenge!\n\n*NOTE: Police Pals is the only Story Time occurring dur
 ing the Story Time Break. All other Story Times at our seven branches will
  return the week of Monday\, August 18th*
X-WR-RELCALID:a3ee04a978883a5167c69949558abdc0
X-WR-TIMEZONE:America/New_York
BEGIN:VTIMEZONE
TZID:America/New_York
BEGIN:STANDARD
TZNAME:EST
DTSTART:20241103T020000
TZOFFSETFROM:-0400
TZOFFSETTO:-0500
RDATE:20251102T020000
RDATE:20261101T020000
END:STANDARD
BEGIN:DAYLIGHT
TZNAME:EDT
DTSTART:20250309T020000
TZOFFSETFROM:-0500
TZOFFSETTO:-0400
RDATE:20260308T020000
END:DAYLIGHT
END:VTIMEZONE
BEGIN:VEVENT
UID:6136ba1c-037b-4600-b77a-4eeaf62a23cf
DTSTAMP:20260419T224100Z
DESCRIPTION:Enjoy special stories and check out a cool police car with the 
 Luray Police Department at our final special Story Time of the Summer Read
 ing Challenge!\n\n*NOTE: Police Pals is the only Story Time occurring duri
 ng the Story Time Break. All other Story Times at our seven branches will 
 return the week of Monday\, August 18th*
DTSTART;TZID=America/New_York:20250804T103000
DTEND;TZID=America/New_York:20250804T110000
LOCATION:Page Public Library\, 100 Zerkel Street\, Luray\, VA 22835 US
SUMMARY:Police Pals @Page Public Library
END:VEVENT
END:VCALENDAR
