BEGIN:VCALENDAR
VERSION:2.0
PRODID:-//mrlib.org//NONSGML kigkonsult.se iCalcreator 2.30.10//
CALSCALE:GREGORIAN
METHOD:PUBLISH
UID:e3f2bd21-89dc-4300-a0ea-c03669b50439
X-WR-CALDESC:All MRL locations are on a Story Time planning break. We'll se
 e you the week of August 18th!
X-WR-RELCALID:d0cbde5f355352c4553bce6263808844
X-WR-TIMEZONE:America/New_York
BEGIN:VTIMEZONE
TZID:America/New_York
BEGIN:STANDARD
TZNAME:EST
DTSTART:20241103T020000
TZOFFSETFROM:-0400
TZOFFSETTO:-0500
RDATE:20251102T020000
RDATE:20261101T020000
END:STANDARD
BEGIN:DAYLIGHT
TZNAME:EDT
DTSTART:20250309T020000
TZOFFSETFROM:-0500
TZOFFSETTO:-0400
RDATE:20260308T020000
END:DAYLIGHT
END:VTIMEZONE
BEGIN:VEVENT
UID:03ce242b-7073-419c-951b-9c764937ab22
DTSTAMP:20260419T224031Z
DESCRIPTION:All MRL locations are on a Story Time planning break. We'll see
  you the week of August 18th!
DTSTART;TZID=America/New_York:20250804T060000
DTEND;TZID=America/New_York:20250816T060001
LOCATION:
SUMMARY:STORY TIME BREAK
END:VEVENT
END:VCALENDAR
