BEGIN:VCALENDAR
VERSION:2.0
PRODID:-//mrlib.org//NONSGML kigkonsult.se iCalcreator 2.30.10//
CALSCALE:GREGORIAN
METHOD:PUBLISH
UID:892a1f9b-cbd1-48bd-9640-0e3188f9944e
X-WR-CALDESC:Dogs are wonderful listeners and love to hear stories being to
 ld to them! Dogs 2 Read 2 is a great chance for kids in grades K-5 to prac
 tice their reading skills with Timber\, Zion\, or Aspen\, wonderful and we
 ll-behaved certified therapy pups.
X-WR-RELCALID:193c418ef95241194320f700f8903aec
X-WR-TIMEZONE:America/New_York
BEGIN:VTIMEZONE
TZID:America/New_York
BEGIN:STANDARD
TZNAME:EST
DTSTART:20241103T020000
TZOFFSETFROM:-0400
TZOFFSETTO:-0500
RDATE:20251102T020000
RDATE:20261101T020000
END:STANDARD
BEGIN:DAYLIGHT
TZNAME:EDT
DTSTART:20250309T020000
TZOFFSETFROM:-0500
TZOFFSETTO:-0400
RDATE:20260308T020000
END:DAYLIGHT
END:VTIMEZONE
BEGIN:VEVENT
UID:c48b516f-2311-41e9-9f32-989ee97a21b9
DTSTAMP:20260419T230118Z
DESCRIPTION:Dogs are wonderful listeners and love to hear stories being tol
 d to them! Dogs 2 Read 2 is a great chance for kids in grades K-5 to pract
 ice their reading skills with Timber\, Zion\, or Aspen\, wonderful and wel
 l-behaved certified therapy pups.
DTSTART;TZID=America/New_York:20250806T160000
DTEND;TZID=America/New_York:20250806T170000
LOCATION:Elkton Community Library\, 106 N. Terrace Avenue\, Elkton\, VA 228
 27 US
SUMMARY:Dogs 2 Read 2 @Elkton Community Library
END:VEVENT
END:VCALENDAR
