BEGIN:VCALENDAR
VERSION:2.0
PRODID:-//mrlib.org//NONSGML kigkonsult.se iCalcreator 2.30.10//
CALSCALE:GREGORIAN
METHOD:PUBLISH
UID:62426881-4b94-4a17-ac62-1d7457ea9696
X-WR-CALDESC:Celebrate the end of our Summer Reading Challenge in the beaut
 iful garden behind North River Library! Enjoy free books\, tasty popsicles
 \, fun bubbles\, and exciting giveaways. Plus\, don’t miss a special conce
 rt by members of the Walking Roots Band at 11:00 AM!
X-WR-RELCALID:d4cc9f6bc9ac356d0d63d7b09377c353
X-WR-TIMEZONE:America/New_York
BEGIN:VTIMEZONE
TZID:America/New_York
BEGIN:STANDARD
TZNAME:EST
DTSTART:20241103T020000
TZOFFSETFROM:-0400
TZOFFSETTO:-0500
RDATE:20251102T020000
RDATE:20261101T020000
END:STANDARD
BEGIN:DAYLIGHT
TZNAME:EDT
DTSTART:20250309T020000
TZOFFSETFROM:-0500
TZOFFSETTO:-0400
RDATE:20260308T020000
END:DAYLIGHT
END:VTIMEZONE
BEGIN:VEVENT
UID:104fba46-0098-4db9-a170-63dabe6c183a
DTSTAMP:20260419T224213Z
DESCRIPTION:Celebrate the end of our Summer Reading Challenge in the beauti
 ful garden behind North River Library! Enjoy free books\, tasty popsicles\
 , fun bubbles\, and exciting giveaways. Plus\, don’t miss a special concer
 t by members of the Walking Roots Band at 11:00 AM!
DTSTART;TZID=America/New_York:20250807T110000
DTEND;TZID=America/New_York:20250807T120000
LOCATION:North River Library\, 118 Mt. Crawford Avenue\, Bridgewater\, VA 2
 2812 US
SUMMARY:End of Summer Celebration @North River Library
END:VEVENT
END:VCALENDAR
