BEGIN:VCALENDAR
VERSION:2.0
PRODID:-//mrlib.org//NONSGML kigkonsult.se iCalcreator 2.30.10//
CALSCALE:GREGORIAN
METHOD:PUBLISH
UID:4f944b14-7139-4c92-b49e-ac6c5c9c03d2
X-WR-CALDESC:All families are invited to Discovering Daisies\, where local 
 Girl Scout Troop Leader Elizabeth DePoy will tell us all about the Daisies
  program and lead a Story Time and craft!
X-WR-RELCALID:c75ee63222ad443240ef370ea847d246
X-WR-TIMEZONE:America/New_York
BEGIN:VTIMEZONE
TZID:America/New_York
BEGIN:STANDARD
TZNAME:EST
DTSTART:20241103T020000
TZOFFSETFROM:-0400
TZOFFSETTO:-0500
RDATE:20251102T020000
RDATE:20261101T020000
END:STANDARD
BEGIN:DAYLIGHT
TZNAME:EDT
DTSTART:20250309T020000
TZOFFSETFROM:-0500
TZOFFSETTO:-0400
RDATE:20260308T020000
END:DAYLIGHT
END:VTIMEZONE
BEGIN:VEVENT
UID:fc192718-d6b1-4238-8867-dddab1bb8584
DTSTAMP:20260419T224100Z
DESCRIPTION:All families are invited to Discovering Daisies\, where local G
 irl Scout Troop Leader Elizabeth DePoy will tell us all about the Daisies 
 program and lead a Story Time and craft!
DTSTART;TZID=America/New_York:20250809T100000
DTEND;TZID=America/New_York:20250809T110000
LOCATION:Village Library\, 175 N. Main Street\, Broadway\, VA 22815 US
SUMMARY:Discovering Daisies @Village Library
END:VEVENT
END:VCALENDAR
