BEGIN:VCALENDAR
VERSION:2.0
PRODID:-//mrlib.org//NONSGML kigkonsult.se iCalcreator 2.30.10//
CALSCALE:GREGORIAN
METHOD:PUBLISH
UID:fdfa882b-6aa7-4ef5-836b-1911c23c23f8
X-WR-CALDESC:Kids ages 3 and up: explore diverse cultures and their use of 
 plants with special guest Sandy Parks! She'll begin telling stories at 10:
 30 AM. Don't miss out on an opportunity to enjoy the summer weather in Nor
 th River Library's beautiful Butterfly Garden!
X-WR-RELCALID:25ffc75ba516139cdbcdc2df7484bbbe
X-WR-TIMEZONE:America/New_York
BEGIN:VTIMEZONE
TZID:America/New_York
BEGIN:STANDARD
TZNAME:EST
DTSTART:20241103T020000
TZOFFSETFROM:-0400
TZOFFSETTO:-0500
RDATE:20251102T020000
RDATE:20261101T020000
END:STANDARD
BEGIN:DAYLIGHT
TZNAME:EDT
DTSTART:20250309T020000
TZOFFSETFROM:-0500
TZOFFSETTO:-0400
RDATE:20260308T020000
END:DAYLIGHT
END:VTIMEZONE
BEGIN:VEVENT
UID:c2293ad8-c32f-4cad-885c-4debf827d482
DTSTAMP:20260419T225437Z
DESCRIPTION:Kids ages 3 and up: explore diverse cultures and their use of p
 lants with special guest Sandy Parks! She'll begin telling stories at 10:3
 0 AM. Don't miss out on an opportunity to enjoy the summer weather in Nort
 h River Library's beautiful Butterfly Garden!
DTSTART;TZID=America/New_York:20250809T103000
DTEND;TZID=America/New_York:20250809T120000
LOCATION:North River Library\, 118 Mt. Crawford Avenue\, Bridgewater\, VA 2
 2812 US
SUMMARY:Diversity in Gardening @North River Library
END:VEVENT
END:VCALENDAR
