BEGIN:VCALENDAR
VERSION:2.0
PRODID:-//mrlib.org//NONSGML kigkonsult.se iCalcreator 2.30.10//
CALSCALE:GREGORIAN
METHOD:PUBLISH
UID:29fe4d65-f2ce-41a3-9475-e71dc5777a79
X-WR-CALDESC:Kids can join us every third Saturday of the month for Crafty 
 Kids! Use your imagination to create a different craft each month.
X-WR-RELCALID:55ea47f30d523d3853f8efb771a45137
X-WR-TIMEZONE:America/New_York
BEGIN:VTIMEZONE
TZID:America/New_York
BEGIN:STANDARD
TZNAME:EST
DTSTART:20241103T020000
TZOFFSETFROM:-0400
TZOFFSETTO:-0500
RDATE:20251102T020000
RDATE:20261101T020000
END:STANDARD
BEGIN:DAYLIGHT
TZNAME:EDT
DTSTART:20250309T020000
TZOFFSETFROM:-0500
TZOFFSETTO:-0400
RDATE:20260308T020000
END:DAYLIGHT
END:VTIMEZONE
BEGIN:VEVENT
UID:7ae93e28-fd16-4c55-904b-12a54ba52f4b
DTSTAMP:20260419T230130Z
DESCRIPTION:Kids can join us every third Saturday of the month for Crafty K
 ids! Use your imagination to create a different craft each month.
DTSTART;TZID=America/New_York:20250816T110000
DTEND;TZID=America/New_York:20250816T120000
LOCATION:North River Library\, 118 Mt. Crawford Avenue\, Bridgewater\, VA 2
 2812 US
SUMMARY:Crafty Kids @North River Library
END:VEVENT
END:VCALENDAR
