BEGIN:VCALENDAR
VERSION:2.0
PRODID:-//mrlib.org//NONSGML kigkonsult.se iCalcreator 2.30.10//
CALSCALE:GREGORIAN
METHOD:PUBLISH
UID:a9ad22c3-a7a5-4299-873b-3f04784f3a13
X-WR-CALDESC:K-5 kids: find out just how many ways you can turn simple piec
 es of aluminum foil into masterpieces!
X-WR-RELCALID:9e111c35d158733e521a3cee19b09408
X-WR-TIMEZONE:America/New_York
BEGIN:VTIMEZONE
TZID:America/New_York
BEGIN:STANDARD
TZNAME:EST
DTSTART:20241103T020000
TZOFFSETFROM:-0400
TZOFFSETTO:-0500
RDATE:20251102T020000
RDATE:20261101T020000
END:STANDARD
BEGIN:DAYLIGHT
TZNAME:EDT
DTSTART:20250309T020000
TZOFFSETFROM:-0500
TZOFFSETTO:-0400
RDATE:20260308T020000
END:DAYLIGHT
END:VTIMEZONE
BEGIN:VEVENT
UID:b1d12cad-9bc3-4f98-bed5-7adef6da6720
DTSTAMP:20260419T224206Z
DESCRIPTION:K-5 kids: find out just how many ways you can turn simple piece
 s of aluminum foil into masterpieces!
DTSTART;TZID=America/New_York:20250816T110000
DTEND;TZID=America/New_York:20250816T120000
LOCATION:Shenandoah Community Library\, 418 S. Third Street\, Shenandoah\, 
 VA 22849 US
SUMMARY:Foil Art Fun @Shenandoah Community Library
END:VEVENT
END:VCALENDAR
