BEGIN:VCALENDAR
VERSION:2.0
PRODID:-//mrlib.org//NONSGML kigkonsult.se iCalcreator 2.30.10//
CALSCALE:GREGORIAN
METHOD:PUBLISH
UID:b1c83584-ab72-46d4-a0b9-7483e8b34301
X-WR-CALDESC:All ages are invited to Trailblazer Fest to learn all about di
 fferent outdoor activities! Chat with staff from Shenandoah National Park\
 , Wild GUYde Adventures\, the Community Gear Library\, Appalachian Conserv
 ation Corps\, Rockingham Bird Club\, JMU's Edith J. Carrier Arboretum\, Pu
 rcell Parkrun\, and much more at our resource fair.\n\nThe Community Gear 
 Library will host a Beginner Session at 12:30 PM and an Intermediate Sessi
 on at 2:00 PM to teach you everything you need to know about outdoor gear!
X-WR-RELCALID:2df85f04e284777a5179e7bb44bb09be
X-WR-TIMEZONE:America/New_York
BEGIN:VTIMEZONE
TZID:America/New_York
BEGIN:STANDARD
TZNAME:EST
DTSTART:20241103T020000
TZOFFSETFROM:-0400
TZOFFSETTO:-0500
RDATE:20251102T020000
RDATE:20261101T020000
END:STANDARD
BEGIN:DAYLIGHT
TZNAME:EDT
DTSTART:20250309T020000
TZOFFSETFROM:-0500
TZOFFSETTO:-0400
RDATE:20260308T020000
END:DAYLIGHT
END:VTIMEZONE
BEGIN:VEVENT
UID:5ab98693-3356-496d-ae0a-f2fd33e6faf9
DTSTAMP:20260419T224101Z
DESCRIPTION:All ages are invited to Trailblazer Fest to learn all about dif
 ferent outdoor activities! Chat with staff from Shenandoah National Park\,
  Wild GUYde Adventures\, the Community Gear Library\, Appalachian Conserva
 tion Corps\, Rockingham Bird Club\, JMU's Edith J. Carrier Arboretum\, Pur
 cell Parkrun\, and much more at our resource fair.\n\nThe Community Gear L
 ibrary will host a Beginner Session at 12:30 PM and an Intermediate Sessio
 n at 2:00 PM to teach you everything you need to know about outdoor gear!
DTSTART;TZID=America/New_York:20250816T120000
DTEND;TZID=America/New_York:20250816T150000
LOCATION:Central Library\, 174 S. Main Street\, Harrisonburg\, VA 22801 US
SUMMARY:Trailblazer Fest @Central Library
END:VEVENT
END:VCALENDAR
