BEGIN:VCALENDAR
VERSION:2.0
PRODID:-//mrlib.org//NONSGML kigkonsult.se iCalcreator 2.30.10//
CALSCALE:GREGORIAN
METHOD:PUBLISH
UID:55966c90-6273-48df-9d18-33545c3fd29d
X-WR-CALDESC:Children of all ages and their caregivers will enjoy books\, s
 ongs\, and crafts that encourage early literacy skill development.
X-WR-RELCALID:96f95334b0c52f61e4f8786ee1713ab1
X-WR-TIMEZONE:America/New_York
BEGIN:VTIMEZONE
TZID:America/New_York
BEGIN:STANDARD
TZNAME:EST
DTSTART:20241103T020000
TZOFFSETFROM:-0400
TZOFFSETTO:-0500
RDATE:20251102T020000
RDATE:20261101T020000
END:STANDARD
BEGIN:DAYLIGHT
TZNAME:EDT
DTSTART:20250309T020000
TZOFFSETFROM:-0500
TZOFFSETTO:-0400
RDATE:20260308T020000
END:DAYLIGHT
END:VTIMEZONE
BEGIN:VEVENT
UID:958a3baf-400a-4703-b018-fd0e518d7c57
DTSTAMP:20260419T230632Z
DESCRIPTION:Children of all ages and their caregivers will enjoy books\, so
 ngs\, and crafts that encourage early literacy skill development.
DTSTART;TZID=America/New_York:20250819T110000
DTEND;TZID=America/New_York:20250819T113000
LOCATION:Shenandoah Community Library\, 418 S. Third Street\, Shenandoah\, 
 VA 22849 US
SUMMARY:Fantastic Family Fun @ Shenandoah Community Library
END:VEVENT
END:VCALENDAR
