BEGIN:VCALENDAR
VERSION:2.0
PRODID:-//mrlib.org//NONSGML kigkonsult.se iCalcreator 2.30.10//
CALSCALE:GREGORIAN
METHOD:PUBLISH
UID:3835d4b3-6956-455b-9817-7f246ca23b47
X-WR-CALDESC:2-3 year olds and their caregivers are invited to join us for 
 a fun filled story time complete with books\, nursery rhymes\, songs\, and
  crafts designed to strengthen early literacy development. \n
X-WR-RELCALID:a7acf2cc8d30b887aeb65ef0e8cfdea7
X-WR-TIMEZONE:America/New_York
BEGIN:VTIMEZONE
TZID:America/New_York
BEGIN:STANDARD
TZNAME:EST
DTSTART:20241103T020000
TZOFFSETFROM:-0400
TZOFFSETTO:-0500
RDATE:20251102T020000
RDATE:20261101T020000
END:STANDARD
BEGIN:DAYLIGHT
TZNAME:EDT
DTSTART:20250309T020000
TZOFFSETFROM:-0500
TZOFFSETTO:-0400
RDATE:20260308T020000
END:DAYLIGHT
END:VTIMEZONE
BEGIN:VEVENT
UID:3137b03d-1c84-4018-827f-436d831553fe
DTSTAMP:20260419T230355Z
DESCRIPTION:2-3 year olds and their caregivers are invited to join us for a
  fun filled story time complete with books\, nursery rhymes\, songs\, and 
 crafts designed to strengthen early literacy development. \n
DTSTART;TZID=America/New_York:20250821T103000
DTEND;TZID=America/New_York:20250821T110000
LOCATION:Page Public Library\, 100 Zerkel Street\, Luray\, VA 22835 US
SUMMARY:Tremendous Toddlers @ Page Public Library
END:VEVENT
END:VCALENDAR
