BEGIN:VCALENDAR
VERSION:2.0
PRODID:-//mrlib.org//NONSGML kigkonsult.se iCalcreator 2.30.10//
CALSCALE:GREGORIAN
METHOD:PUBLISH
UID:7d71f948-77ff-44d0-972e-9eaf45e74de9
X-WR-CALDESC:People of all ages and skill levels can gather to work on thei
 r latest craft projects every 4th Tuesday of the month! Share your creatio
 ns and make new friends!
X-WR-RELCALID:cc7921c5a81ff1bd8d8674602ef02304
X-WR-TIMEZONE:America/New_York
BEGIN:VTIMEZONE
TZID:America/New_York
BEGIN:STANDARD
TZNAME:EST
DTSTART:20241103T020000
TZOFFSETFROM:-0400
TZOFFSETTO:-0500
RDATE:20251102T020000
RDATE:20261101T020000
END:STANDARD
BEGIN:DAYLIGHT
TZNAME:EDT
DTSTART:20250309T020000
TZOFFSETFROM:-0500
TZOFFSETTO:-0400
RDATE:20260308T020000
END:DAYLIGHT
END:VTIMEZONE
BEGIN:VEVENT
UID:d531ee5e-648f-4c99-96d9-acbbe777ac75
DTSTAMP:20260419T225544Z
DESCRIPTION:People of all ages and skill levels can gather to work on their
  latest craft projects every 4th Tuesday of the month! Share your creation
 s and make new friends!
DTSTART;TZID=America/New_York:20250826T153000
DTEND;TZID=America/New_York:20250826T163000
LOCATION:North River Library\, 118 Mt. Crawford Avenue\, Bridgewater\, VA 2
 2812 US
SUMMARY:Crafting Together @North River Library
END:VEVENT
END:VCALENDAR
