BEGIN:VCALENDAR
VERSION:2.0
PRODID:-//mrlib.org//NONSGML kigkonsult.se iCalcreator 2.30.10//
CALSCALE:GREGORIAN
METHOD:PUBLISH
UID:545a72a7-07f8-4457-a4f2-7a57938b4197
X-WR-CALDESC:Dogs are wonderful listeners and love to hear stories being to
 ld to them! Dogs 2 Read 2 is a great chance for kids in grades K-5 to prac
 tice their reading skills with a wonderful and well-behaved pup. Come meet
  Lady and Sadie and read a story to these special therapy pups!
X-WR-RELCALID:a90258f57886592b74b70c6a2ce074f7
X-WR-TIMEZONE:America/New_York
BEGIN:VTIMEZONE
TZID:America/New_York
BEGIN:STANDARD
TZNAME:EST
DTSTART:20241103T020000
TZOFFSETFROM:-0400
TZOFFSETTO:-0500
RDATE:20251102T020000
RDATE:20261101T020000
END:STANDARD
BEGIN:DAYLIGHT
TZNAME:EDT
DTSTART:20250309T020000
TZOFFSETFROM:-0500
TZOFFSETTO:-0400
RDATE:20260308T020000
END:DAYLIGHT
END:VTIMEZONE
BEGIN:VEVENT
UID:9e71232a-abdb-4d5d-81c3-665b8a9ed6ad
DTSTAMP:20260419T230601Z
DESCRIPTION:Dogs are wonderful listeners and love to hear stories being tol
 d to them! Dogs 2 Read 2 is a great chance for kids in grades K-5 to pract
 ice their reading skills with a wonderful and well-behaved pup. Come meet 
 Lady and Sadie and read a story to these special therapy pups!
DTSTART;TZID=America/New_York:20250828T160000
DTEND;TZID=America/New_York:20250828T170000
LOCATION:Grottoes Branch Library\, 301 Dogwood Aevnue\, Grottoes\, VA 24441
  US
SUMMARY:Dogs 2 Read 2 @Grottoes Branch Library
END:VEVENT
END:VCALENDAR
