BEGIN:VCALENDAR
VERSION:2.0
PRODID:-//mrlib.org//NONSGML kigkonsult.se iCalcreator 2.30.10//
CALSCALE:GREGORIAN
METHOD:PUBLISH
UID:5e25081f-b74b-419f-8d41-3ef46f0df591
X-WR-CALDESC:Drop by the library and build with Keva Planks. Explore what y
 ou can build and create with these fun\, simple planks! Keva Lab is geared
  towards kindergarten through 5th grade youth.
X-WR-RELCALID:5173c080355bbf9fa8b190c4a6955df4
X-WR-TIMEZONE:America/New_York
BEGIN:VTIMEZONE
TZID:America/New_York
BEGIN:STANDARD
TZNAME:EST
DTSTART:20241103T020000
TZOFFSETFROM:-0400
TZOFFSETTO:-0500
RDATE:20251102T020000
RDATE:20261101T020000
END:STANDARD
BEGIN:DAYLIGHT
TZNAME:EDT
DTSTART:20250309T020000
TZOFFSETFROM:-0500
TZOFFSETTO:-0400
RDATE:20260308T020000
END:DAYLIGHT
END:VTIMEZONE
BEGIN:VEVENT
UID:98dc3a3b-db87-42d3-8774-07ecdb25495d
DTSTAMP:20260419T224214Z
DESCRIPTION:Drop by the library and build with Keva Planks. Explore what yo
 u can build and create with these fun\, simple planks! Keva Lab is geared 
 towards kindergarten through 5th grade youth.
DTSTART;TZID=America/New_York:20250828T160000
DTEND;TZID=America/New_York:20250828T170000
LOCATION:174 S. Main St.\, Harrisonburg\, VA 22801 US
SUMMARY:Keva Lab @ Central Library
END:VEVENT
END:VCALENDAR
