BEGIN:VCALENDAR
VERSION:2.0
PRODID:-//mrlib.org//NONSGML kigkonsult.se iCalcreator 2.30.10//
CALSCALE:GREGORIAN
METHOD:PUBLISH
UID:e8ed6244-b3a0-4060-88cc-35763f5ca39d
X-WR-CALDESC:Join us for tabletop games\, including chess\, Jenga\, cards\,
  and more. Games will be provided or participants are welcome to bring the
 ir own tabletop games to share each month\, too!
X-WR-RELCALID:455a338c494683452f491dd00d91c2e4
X-WR-TIMEZONE:America/New_York
BEGIN:VTIMEZONE
TZID:America/New_York
BEGIN:STANDARD
TZNAME:EST
DTSTART:20241103T020000
TZOFFSETFROM:-0400
TZOFFSETTO:-0500
RDATE:20251102T020000
RDATE:20261101T020000
END:STANDARD
BEGIN:DAYLIGHT
TZNAME:EDT
DTSTART:20250309T020000
TZOFFSETFROM:-0500
TZOFFSETTO:-0400
RDATE:20260308T020000
END:DAYLIGHT
END:VTIMEZONE
BEGIN:VEVENT
UID:f58ee0b2-880b-4d73-8956-7b721a798a0f
DTSTAMP:20260419T205250Z
DESCRIPTION:Join us for tabletop games\, including chess\, Jenga\, cards\, 
 and more. Games will be provided or participants are welcome to bring thei
 r own tabletop games to share each month\, too!
DTSTART;TZID=America/New_York:20250902T150000
DTEND;TZID=America/New_York:20250902T170000
LOCATION:North River Library\, 118 Mt. Crawford Avenue\, Bridgewater\, VA 2
 2812 US
SUMMARY:Library's Got Game @North River Library
END:VEVENT
END:VCALENDAR
