BEGIN:VCALENDAR
VERSION:2.0
PRODID:-//mrlib.org//NONSGML kigkonsult.se iCalcreator 2.30.10//
CALSCALE:GREGORIAN
METHOD:PUBLISH
UID:dabcab46-b511-4f48-81ff-5809dfc0d29b
X-WR-CALDESC:Children of all ages and their caregivers will enjoy books\, s
 ongs\, and crafts that encourage early literacy skill development.
X-WR-RELCALID:353efd69631ee63e0cd6796526407bc9
X-WR-TIMEZONE:America/New_York
BEGIN:VTIMEZONE
TZID:America/New_York
BEGIN:STANDARD
TZNAME:EST
DTSTART:20241103T020000
TZOFFSETFROM:-0400
TZOFFSETTO:-0500
RDATE:20251102T020000
RDATE:20261101T020000
END:STANDARD
BEGIN:DAYLIGHT
TZNAME:EDT
DTSTART:20250309T020000
TZOFFSETFROM:-0500
TZOFFSETTO:-0400
RDATE:20260308T020000
END:DAYLIGHT
END:VTIMEZONE
BEGIN:VEVENT
UID:c920103f-1132-4953-a52f-d88432f3da0d
DTSTAMP:20260419T205900Z
DESCRIPTION:Children of all ages and their caregivers will enjoy books\, so
 ngs\, and crafts that encourage early literacy skill development.
DTSTART;TZID=America/New_York:20250904T101500
DTEND;TZID=America/New_York:20250904T104500
LOCATION:North River Library\, 118 Mt. Crawford Avenue\, Bridgewater\, VA 2
 2812 US
SUMMARY:Fantastic Family Fun @ North River Library
END:VEVENT
END:VCALENDAR
