BEGIN:VCALENDAR
VERSION:2.0
PRODID:-//mrlib.org//NONSGML kigkonsult.se iCalcreator 2.30.10//
CALSCALE:GREGORIAN
METHOD:PUBLISH
UID:3f9af9c3-b538-426c-96e4-bde61397ca97
X-WR-CALDESC:In celebration of its 25th anniversary and in an effort to bri
 ng the community together through art\, OASIS Fine Art & Craft is leading 
 a community-wide project to break the Guinness World Record for the larges
 t number of people working on a mosaic! The current record stands at 1\,89
 9 participants. \n\nTo help OASIS reach its goal\, you can drop in to Cent
 ral Library in Harrisonburg from 6-8 PM to add pieces to our mosaic contri
 bution and be a part of the community's record-breaking attempt!
X-WR-RELCALID:bb0ca40a861699d1dac942ae10d824e8
X-WR-TIMEZONE:America/New_York
BEGIN:VTIMEZONE
TZID:America/New_York
BEGIN:STANDARD
TZNAME:EST
DTSTART:20241103T020000
TZOFFSETFROM:-0400
TZOFFSETTO:-0500
RDATE:20251102T020000
RDATE:20261101T020000
END:STANDARD
BEGIN:DAYLIGHT
TZNAME:EDT
DTSTART:20250309T020000
TZOFFSETFROM:-0500
TZOFFSETTO:-0400
RDATE:20260308T020000
END:DAYLIGHT
END:VTIMEZONE
BEGIN:VEVENT
UID:396c647d-5c8a-483f-8aa5-301d61828d35
DTSTAMP:20260419T204924Z
DESCRIPTION:In celebration of its 25th anniversary and in an effort to brin
 g the community together through art\, OASIS Fine Art & Craft is leading a
  community-wide project to break the Guinness World Record for the largest
  number of people working on a mosaic! The current record stands at 1\,899
  participants. \n\nTo help OASIS reach its goal\, you can drop in to Centr
 al Library in Harrisonburg from 6-8 PM to add pieces to our mosaic contrib
 ution and be a part of the community's record-breaking attempt!
DTSTART;TZID=America/New_York:20250904T180000
DTEND;TZID=America/New_York:20250904T200000
LOCATION:Central Library\, 174 S. Main Street\, Harrisonburg\, VA 22801 US
SUMMARY:Piece by Piece @Central Library
END:VEVENT
END:VCALENDAR
