BEGIN:VCALENDAR
VERSION:2.0
PRODID:-//mrlib.org//NONSGML kigkonsult.se iCalcreator 2.30.10//
CALSCALE:GREGORIAN
METHOD:PUBLISH
UID:7f9eb1ab-1c83-42b4-a97f-7afd1be84833
X-WR-CALDESC:Dogs are wonderful listeners and love to hear stories being to
 ld to them! Dogs 2 Read 2 is a great chance for kids in grades K-5 to prac
 tice their reading skills with a wonderful and well-behaved pup. Come meet
  Kenna\, a certified therapy dog through the Alliance for Therapy Dogs. Ke
 nna is a familiar\, friendly face at many local schools and loves to have 
 stories read to her!*\n\n*Please note: Dogs 2 Read 2 at Village Library ha
 s been moved from September 13th to September 6th due to Broadway's Fall F
 estival. All future Dogs 2 Read 2 at Village Library will be on the 2nd Sa
 turday of the month.
X-WR-RELCALID:b835734cdeb6b2452f59be5e159ced00
X-WR-TIMEZONE:America/New_York
BEGIN:VTIMEZONE
TZID:America/New_York
BEGIN:STANDARD
TZNAME:EST
DTSTART:20241103T020000
TZOFFSETFROM:-0400
TZOFFSETTO:-0500
RDATE:20251102T020000
RDATE:20261101T020000
END:STANDARD
BEGIN:DAYLIGHT
TZNAME:EDT
DTSTART:20250309T020000
TZOFFSETFROM:-0500
TZOFFSETTO:-0400
RDATE:20260308T020000
END:DAYLIGHT
END:VTIMEZONE
BEGIN:VEVENT
UID:50af2f24-fdb2-449c-af06-fabbca14298e
DTSTAMP:20260419T210021Z
DESCRIPTION:Dogs are wonderful listeners and love to hear stories being tol
 d to them! Dogs 2 Read 2 is a great chance for kids in grades K-5 to pract
 ice their reading skills with a wonderful and well-behaved pup. Come meet 
 Kenna\, a certified therapy dog through the Alliance for Therapy Dogs. Ken
 na is a familiar\, friendly face at many local schools and loves to have s
 tories read to her!*\n\n*Please note: Dogs 2 Read 2 at Village Library has
  been moved from September 13th to September 6th due to Broadway's Fall Fe
 stival. All future Dogs 2 Read 2 at Village Library will be on the 2nd Sat
 urday of the month.
DTSTART;TZID=America/New_York:20250906T110000
DTEND;TZID=America/New_York:20250906T120000
LOCATION:Village Library\, 175 N. Main Street\, Broadway\, VA 22815 US
SUMMARY:Dogs 2 Read 2 @Village Library
END:VEVENT
END:VCALENDAR
