BEGIN:VCALENDAR
VERSION:2.0
PRODID:-//mrlib.org//NONSGML kigkonsult.se iCalcreator 2.30.10//
CALSCALE:GREGORIAN
METHOD:PUBLISH
UID:4ac8e4a1-bd98-470b-95c2-fc7b75cb8e24
X-WR-CALDESC:For kids ages 5-11:\n\nWhat if you wanted to make a play? If y
 ou've seen a show at a traditional theater\, you might imagine that you'd 
 need curtains\, lights\, and a stage. What if you didn't have any of that?
  Can you still make a play? What if all you have to work with is just the 
 contents of your own bedroom\, your mom's purse\, or your pockets?\n\nProf
 essional theater artists actually work exactly this way\, using a set of t
 ools called 'devised theater!' Local professional theater Silk Moth Stage 
 uses devised theater techniques to create plays in unusual environments\, 
 without any fancy equipment. Using things you probably have around the hou
 se\, they create magical environments\, from a pirate ship to a painter's 
 studio. In their upcoming play\, The Wanting Forest\, they'll create an un
 derground mushroom kingdom\, an ocean\, a mountaintop\, and a forest glade
 !\n\nJoin the teaching artists of Silk Moth Stage for an exploration of th
 eater-making using just what we have. Through a series of games and challe
 nges\, kids will work with a team to create an environment and place a sto
 ry inside of it! How would you create the mushroom kingdom with fabric\, n
 oisemakers\, and collaboration? What movement can build the ocean? We can'
 t wait to find out! \n\nRegistration is required\, so click the 'Register 
 Now' button to save a spot. We'd also like to give a special thank you to 
 the Arts Council of the Valley for their support in bringing this wonderfu
 l program to life!
X-WR-RELCALID:42db1d93f39120e0949f5b2e418081ab
X-WR-TIMEZONE:America/New_York
BEGIN:VTIMEZONE
TZID:America/New_York
BEGIN:STANDARD
TZNAME:EST
DTSTART:20241103T020000
TZOFFSETFROM:-0400
TZOFFSETTO:-0500
RDATE:20251102T020000
RDATE:20261101T020000
END:STANDARD
BEGIN:DAYLIGHT
TZNAME:EDT
DTSTART:20250309T020000
TZOFFSETFROM:-0500
TZOFFSETTO:-0400
RDATE:20260308T020000
END:DAYLIGHT
END:VTIMEZONE
BEGIN:VEVENT
UID:767cce97-2d9a-456a-a7e0-89213832ba09
DTSTAMP:20260419T205034Z
DESCRIPTION:For kids ages 5-11:\n\nWhat if you wanted to make a play? If yo
 u've seen a show at a traditional theater\, you might imagine that you'd n
 eed curtains\, lights\, and a stage. What if you didn't have any of that? 
 Can you still make a play? What if all you have to work with is just the c
 ontents of your own bedroom\, your mom's purse\, or your pockets?\n\nProfe
 ssional theater artists actually work exactly this way\, using a set of to
 ols called 'devised theater!' Local professional theater Silk Moth Stage u
 ses devised theater techniques to create plays in unusual environments\, w
 ithout any fancy equipment. Using things you probably have around the hous
 e\, they create magical environments\, from a pirate ship to a painter's s
 tudio. In their upcoming play\, The Wanting Forest\, they'll create an und
 erground mushroom kingdom\, an ocean\, a mountaintop\, and a forest glade!
 \n\nJoin the teaching artists of Silk Moth Stage for an exploration of the
 ater-making using just what we have. Through a series of games and challen
 ges\, kids will work with a team to create an environment and place a stor
 y inside of it! How would you create the mushroom kingdom with fabric\, no
 isemakers\, and collaboration? What movement can build the ocean? We can't
  wait to find out! \n\nRegistration is required\, so click the 'Register N
 ow' button to save a spot. We'd also like to give a special thank you to t
 he Arts Council of the Valley for their support in bringing this wonderful
  program to life!
DTSTART;TZID=America/New_York:20250906T130000
DTEND;TZID=America/New_York:20250906T140000
LOCATION:Central Library\, 174 S. Main Street\, Harrisonburg\, VA 22801 US
SUMMARY:Acting Workshop for Kids @Central Library
END:VEVENT
END:VCALENDAR
