BEGIN:VCALENDAR
VERSION:2.0
PRODID:-//mrlib.org//NONSGML kigkonsult.se iCalcreator 2.30.10//
CALSCALE:GREGORIAN
METHOD:PUBLISH
UID:6bc50198-ae52-459e-8dba-a3018328091b
X-WR-CALDESC:All ages are invited to join us in the garden with teacher and
  beekeeper Dwight Huyard! Learn beekeeping basics\, ask questions\, and di
 scover what it takes to care for bees.
X-WR-RELCALID:3c86fcecd60afae5f01793801a04dc2e
X-WR-TIMEZONE:America/New_York
BEGIN:VTIMEZONE
TZID:America/New_York
BEGIN:STANDARD
TZNAME:EST
DTSTART:20241103T020000
TZOFFSETFROM:-0400
TZOFFSETTO:-0500
RDATE:20251102T020000
RDATE:20261101T020000
END:STANDARD
BEGIN:DAYLIGHT
TZNAME:EDT
DTSTART:20250309T020000
TZOFFSETFROM:-0500
TZOFFSETTO:-0400
RDATE:20260308T020000
END:DAYLIGHT
END:VTIMEZONE
BEGIN:VEVENT
UID:8b326cea-8a17-4d3b-83c7-78e672c57862
DTSTAMP:20260419T204925Z
DESCRIPTION:All ages are invited to join us in the garden with teacher and 
 beekeeper Dwight Huyard! Learn beekeeping basics\, ask questions\, and dis
 cover what it takes to care for bees.
DTSTART;TZID=America/New_York:20250906T100000
DTEND;TZID=America/New_York:20250906T113000
LOCATION:North River Library\, 118 Mt. Crawford Avenue\, Bridgewater\, VA 2
 2812 US
SUMMARY:Bee Informed @North River Library
END:VEVENT
END:VCALENDAR
