BEGIN:VCALENDAR
VERSION:2.0
PRODID:-//mrlib.org//NONSGML kigkonsult.se iCalcreator 2.30.10//
CALSCALE:GREGORIAN
METHOD:PUBLISH
UID:a0771e55-79c3-41c1-8158-4deef20626ad
X-WR-CALDESC:Let your imagination soar and develop engineering skills while
  building with LEGO blocks. LEGO Club is geared towards kindergarten throu
 gh 5th grade youth.
X-WR-RELCALID:a7253e73c7c1e73dd7c019e1bb9c21b3
X-WR-TIMEZONE:America/New_York
BEGIN:VTIMEZONE
TZID:America/New_York
BEGIN:STANDARD
TZNAME:EST
DTSTART:20241103T020000
TZOFFSETFROM:-0400
TZOFFSETTO:-0500
RDATE:20251102T020000
RDATE:20261101T020000
END:STANDARD
BEGIN:DAYLIGHT
TZNAME:EDT
DTSTART:20250309T020000
TZOFFSETFROM:-0500
TZOFFSETTO:-0400
RDATE:20260308T020000
END:DAYLIGHT
END:VTIMEZONE
BEGIN:VEVENT
UID:b5a4627e-bf2f-420e-bf7a-c4afcb35257b
DTSTAMP:20260419T205526Z
DESCRIPTION:Let your imagination soar and develop engineering skills while 
 building with LEGO blocks. LEGO Club is geared towards kindergarten throug
 h 5th grade youth.
DTSTART;TZID=America/New_York:20250911T160000
DTEND;TZID=America/New_York:20250911T170000
LOCATION:174 S. Main St.\, Harrisonburg\, VA 22801 US
SUMMARY:LEGO Club @ Central Library
END:VEVENT
END:VCALENDAR
