BEGIN:VCALENDAR
VERSION:2.0
PRODID:-//mrlib.org//NONSGML kigkonsult.se iCalcreator 2.30.10//
CALSCALE:GREGORIAN
METHOD:PUBLISH
UID:169a59e7-2f3b-4339-839c-1f07725c182a
X-WR-CALDESC:Join Anicira for the Celebration of Pets Festival on Saturday\
 , September 13th\, from 12-5 PM at Brix & Columns Vineyards in McGaheysvil
 le - just 15 minutes from Harrisonburg! The event raises money for sick an
 d injured pets and celebrates the bond between people and their pets. Make
  sure to stop by Massanutten Regional Library's booth to pick up some free
  kids books!\n\nBring your dogs and family to enjoy exciting games\, activ
 ities\, music\, and delicious food and beverages. No pet? No problem! Ever
 yone is welcome whether or not you have a pet. Click the link below for mo
 re information\, including vendors and FAQs!
X-WR-RELCALID:1dabc40b56a4531e097bfc74d8a69d13
X-WR-TIMEZONE:America/New_York
BEGIN:VTIMEZONE
TZID:America/New_York
BEGIN:STANDARD
TZNAME:EST
DTSTART:20241103T020000
TZOFFSETFROM:-0400
TZOFFSETTO:-0500
RDATE:20251102T020000
RDATE:20261101T020000
END:STANDARD
BEGIN:DAYLIGHT
TZNAME:EDT
DTSTART:20250309T020000
TZOFFSETFROM:-0500
TZOFFSETTO:-0400
RDATE:20260308T020000
RDATE:20270314T020000
END:DAYLIGHT
END:VTIMEZONE
BEGIN:VEVENT
UID:90745035-85e5-489b-9a7e-a2565c455903
DTSTAMP:20260419T213333Z
DESCRIPTION:Join Anicira for the Celebration of Pets Festival on Saturday\,
  September 13th\, from 12-5 PM at Brix & Columns Vineyards in McGaheysvill
 e - just 15 minutes from Harrisonburg! The event raises money for sick and
  injured pets and celebrates the bond between people and their pets. Make 
 sure to stop by Massanutten Regional Library's booth to pick up some free 
 kids books!\n\nBring your dogs and family to enjoy exciting games\, activi
 ties\, music\, and delicious food and beverages. No pet? No problem! Every
 one is welcome whether or not you have a pet. Click the link below for mor
 e information\, including vendors and FAQs!
DTSTART;TZID=America/New_York:20250913T120000
DTEND;TZID=America/New_York:20250913T170000
LOCATION:Brix & Columns Vineyards\, 1501 Dave Berry Rd.\, McGaheysville\, V
 A 22840 US
SUMMARY:Anicira's Celebration of Pets Festival
END:VEVENT
END:VCALENDAR
