BEGIN:VCALENDAR
VERSION:2.0
PRODID:-//mrlib.org//NONSGML kigkonsult.se iCalcreator 2.30.10//
CALSCALE:GREGORIAN
METHOD:PUBLISH
UID:31089477-39a5-4fe6-99d1-27f738976138
X-WR-CALDESC:A lively story time for children birth to 5 years filled with 
 stories\, songs\, and activities to help your child grow. We will actively
  use our eyes\, ears\, mouth\, hands\, and sometimes our whole bodies to p
 articipate in this fun story time!
X-WR-RELCALID:909067ce74a780e6deb5dc0ce8517a6e
X-WR-TIMEZONE:America/New_York
BEGIN:VTIMEZONE
TZID:America/New_York
BEGIN:STANDARD
TZNAME:EST
DTSTART:20241103T020000
TZOFFSETFROM:-0400
TZOFFSETTO:-0500
RDATE:20251102T020000
RDATE:20261101T020000
END:STANDARD
BEGIN:DAYLIGHT
TZNAME:EDT
DTSTART:20250309T020000
TZOFFSETFROM:-0500
TZOFFSETTO:-0400
RDATE:20260308T020000
RDATE:20270314T020000
END:DAYLIGHT
END:VTIMEZONE
BEGIN:VEVENT
UID:c6c59bb9-6dce-4d1e-97dd-a68e68b1c91d
DTSTAMP:20260419T205902Z
DESCRIPTION:A lively story time for children birth to 5 years filled with s
 tories\, songs\, and activities to help your child grow. We will actively 
 use our eyes\, ears\, mouth\, hands\, and sometimes our whole bodies to pa
 rticipate in this fun story time!
DTSTART;TZID=America/New_York:20250915T093000
DTEND;TZID=America/New_York:20250915T100000
LOCATION:Central Library\, 174 S. Main St.\, Harrisonburg\, VA 22801 US
SUMMARY:Stories\, Rhymes\, & Movement @ Central Library
END:VEVENT
END:VCALENDAR
