BEGIN:VCALENDAR
VERSION:2.0
PRODID:-//mrlib.org//NONSGML kigkonsult.se iCalcreator 2.30.10//
CALSCALE:GREGORIAN
METHOD:PUBLISH
UID:c5046521-5953-414c-af75-3611a28a77d7
X-WR-CALDESC:Kids ages 6-11: learn the basics of electricity and circuits w
 ith shockingly fun Snap Circuit kits!
X-WR-RELCALID:c60dcbffce4139bdeea8c7ff9c02d2da
X-WR-TIMEZONE:America/New_York
BEGIN:VTIMEZONE
TZID:America/New_York
BEGIN:STANDARD
TZNAME:EST
DTSTART:20241103T020000
TZOFFSETFROM:-0400
TZOFFSETTO:-0500
RDATE:20251102T020000
RDATE:20261101T020000
END:STANDARD
BEGIN:DAYLIGHT
TZNAME:EDT
DTSTART:20250309T020000
TZOFFSETFROM:-0500
TZOFFSETTO:-0400
RDATE:20260308T020000
RDATE:20270314T020000
END:DAYLIGHT
END:VTIMEZONE
BEGIN:VEVENT
UID:9bce94d7-56f4-4b46-9040-41aed593eae0
DTSTAMP:20260419T205031Z
DESCRIPTION:Kids ages 6-11: learn the basics of electricity and circuits wi
 th shockingly fun Snap Circuit kits!
DTSTART;TZID=America/New_York:20250918T160000
DTEND;TZID=America/New_York:20250918T170000
LOCATION:Shenandoah Community Library\, 418 S. Third Street\, Shenandoah\, 
 VA 22849 US
SUMMARY:Electrifying Snap Circuits @Shenandoah Community Library (Copy)
END:VEVENT
END:VCALENDAR
