BEGIN:VCALENDAR
VERSION:2.0
PRODID:-//mrlib.org//NONSGML kigkonsult.se iCalcreator 2.30.10//
CALSCALE:GREGORIAN
METHOD:PUBLISH
UID:57a11ed9-d1ca-48cf-9927-b66a39aa98df
X-WR-CALDESC:Kids ages 6-11: learn the basics of electricity and circuits w
 ith shockingly fun Snap Circuit kits!
X-WR-RELCALID:fc2416d13b5276c60190c96133764c0c
X-WR-TIMEZONE:America/New_York
BEGIN:VTIMEZONE
TZID:America/New_York
BEGIN:STANDARD
TZNAME:EST
DTSTART:20241103T020000
TZOFFSETFROM:-0400
TZOFFSETTO:-0500
RDATE:20251102T020000
RDATE:20261101T020000
END:STANDARD
BEGIN:DAYLIGHT
TZNAME:EDT
DTSTART:20250309T020000
TZOFFSETFROM:-0500
TZOFFSETTO:-0400
RDATE:20260308T020000
RDATE:20270314T020000
END:DAYLIGHT
END:VTIMEZONE
BEGIN:VEVENT
UID:d49916e4-372d-4123-a8db-fb246539ba1c
DTSTAMP:20260419T205033Z
DESCRIPTION:Kids ages 6-11: learn the basics of electricity and circuits wi
 th shockingly fun Snap Circuit kits!
DTSTART;TZID=America/New_York:20250918T160000
DTEND;TZID=America/New_York:20250918T170000
LOCATION:Shenandoah Community Library\, 418 S. Third Street\, Shenandoah\, 
 VA 22849 US
SUMMARY:Electrifying Snap Circuits @Shenandoah Community Library
END:VEVENT
END:VCALENDAR
