BEGIN:VCALENDAR
VERSION:2.0
PRODID:-//mrlib.org//NONSGML kigkonsult.se iCalcreator 2.30.10//
CALSCALE:GREGORIAN
METHOD:PUBLISH
UID:8f02d3fd-1a9f-4911-8c2b-f7cf69b53d71
X-WR-CALDESC:Buccaneers ages 7 and under: bring your captains (adults) to C
 entral Library to celebrate Talk Like a Pirate Day! We'll have a swashbuck
 ling good time with pirate books\, kid-friendly sea shanties\, and pirate 
 treasure (crafts).
X-WR-RELCALID:7afa2d239d77eb65f8011dd451f8360e
X-WR-TIMEZONE:America/New_York
BEGIN:VTIMEZONE
TZID:America/New_York
BEGIN:STANDARD
TZNAME:EST
DTSTART:20241103T020000
TZOFFSETFROM:-0400
TZOFFSETTO:-0500
RDATE:20251102T020000
RDATE:20261101T020000
END:STANDARD
BEGIN:DAYLIGHT
TZNAME:EDT
DTSTART:20250309T020000
TZOFFSETFROM:-0500
TZOFFSETTO:-0400
RDATE:20260308T020000
RDATE:20270314T020000
END:DAYLIGHT
END:VTIMEZONE
BEGIN:VEVENT
UID:fb421e07-d012-42e5-8619-f4638418f2d3
DTSTAMP:20260419T205114Z
DESCRIPTION:Buccaneers ages 7 and under: bring your captains (adults) to Ce
 ntral Library to celebrate Talk Like a Pirate Day! We'll have a swashbuckl
 ing good time with pirate books\, kid-friendly sea shanties\, and pirate t
 reasure (crafts).
DTSTART;TZID=America/New_York:20250920T103000
DTEND;TZID=America/New_York:20250920T113000
LOCATION:Central Library\, 174 S. Main Street\, Harrisonburg\, VA 22801 US
SUMMARY:Talk Like a Pirate Story Time @Central Library
END:VEVENT
END:VCALENDAR
