BEGIN:VCALENDAR
VERSION:2.0
PRODID:-//mrlib.org//NONSGML kigkonsult.se iCalcreator 2.30.10//
CALSCALE:GREGORIAN
METHOD:PUBLISH
UID:a73501dc-c3b3-4edf-a6d3-3b8d50bf4ddd
X-WR-CALDESC:People of all ages and skill levels can gather to work on thei
 r latest craft projects every 4th Tuesday of the month! Share your creatio
 ns and make new friends!
X-WR-RELCALID:8b41b7f0126f29fb67e12e8cccd4d06f
X-WR-TIMEZONE:America/New_York
BEGIN:VTIMEZONE
TZID:America/New_York
BEGIN:STANDARD
TZNAME:EST
DTSTART:20241103T020000
TZOFFSETFROM:-0400
TZOFFSETTO:-0500
RDATE:20251102T020000
RDATE:20261101T020000
END:STANDARD
BEGIN:DAYLIGHT
TZNAME:EDT
DTSTART:20250309T020000
TZOFFSETFROM:-0500
TZOFFSETTO:-0400
RDATE:20260308T020000
RDATE:20270314T020000
END:DAYLIGHT
END:VTIMEZONE
BEGIN:VEVENT
UID:697a2196-758a-4144-8c82-f8347fbac826
DTSTAMP:20260419T205303Z
DESCRIPTION:People of all ages and skill levels can gather to work on their
  latest craft projects every 4th Tuesday of the month! Share your creation
 s and make new friends!
DTSTART;TZID=America/New_York:20250923T153000
DTEND;TZID=America/New_York:20250923T163000
LOCATION:North River Library\, 118 Mt. Crawford Avenue\, Bridgewater\, VA 2
 2812 US
SUMMARY:Crafting Together @North River Library
END:VEVENT
END:VCALENDAR
