BEGIN:VCALENDAR
VERSION:2.0
PRODID:-//mrlib.org//NONSGML kigkonsult.se iCalcreator 2.30.10//
CALSCALE:GREGORIAN
METHOD:PUBLISH
UID:c46977e5-0f49-4930-8d78-610ffaf18236
X-WR-CALDESC:Do you know any school-age kids who are curious about how game
 s are made\, or already have fun game ideas in mind? Bring them to Design 
 a Game at Village Library in Broadway! They can be creative and collaborat
 ive with their friends and bring their own board or card game ideas to lif
 e. Explore storytelling\, strategy\, and design at a hands-on\, imaginativ
 e program!
X-WR-RELCALID:9c3f7de834ca8f52920797b351d661c9
X-WR-TIMEZONE:America/New_York
BEGIN:VTIMEZONE
TZID:America/New_York
BEGIN:STANDARD
TZNAME:EST
DTSTART:20241103T020000
TZOFFSETFROM:-0400
TZOFFSETTO:-0500
RDATE:20251102T020000
RDATE:20261101T020000
END:STANDARD
BEGIN:DAYLIGHT
TZNAME:EDT
DTSTART:20250309T020000
TZOFFSETFROM:-0500
TZOFFSETTO:-0400
RDATE:20260308T020000
RDATE:20270314T020000
END:DAYLIGHT
END:VTIMEZONE
BEGIN:VEVENT
UID:de240b0f-50d9-4f48-bfa5-f53b86b07317
DTSTAMP:20260419T205105Z
DESCRIPTION:Do you know any school-age kids who are curious about how games
  are made\, or already have fun game ideas in mind? Bring them to Design a
  Game at Village Library in Broadway! They can be creative and collaborati
 ve with their friends and bring their own board or card game ideas to life
 . Explore storytelling\, strategy\, and design at a hands-on\, imaginative
  program!
DTSTART;TZID=America/New_York:20250923T160000
DTEND;TZID=America/New_York:20250923T170000
LOCATION:Village Library\, 175 N. Main Street\, Broadway\, VA 22815 US
SUMMARY:Design a Game @Village Library
END:VEVENT
END:VCALENDAR
