BEGIN:VCALENDAR
VERSION:2.0
PRODID:-//mrlib.org//NONSGML kigkonsult.se iCalcreator 2.30.10//
CALSCALE:GREGORIAN
METHOD:PUBLISH
UID:659c7664-513c-47be-8e68-d0fdf309689a
X-WR-CALDESC:Dogs are wonderful listeners and love to hear stories being to
 ld to them! Dogs 2 Read 2 is a great chance for kids in grades K-5 to prac
 tice their reading skills with a wonderful and well-behaved pup. Come meet
  Lady and Sadie and read a story to these special therapy pups!
X-WR-RELCALID:b900d718774383306109089e519e54ea
X-WR-TIMEZONE:America/New_York
BEGIN:VTIMEZONE
TZID:America/New_York
BEGIN:STANDARD
TZNAME:EST
DTSTART:20241103T020000
TZOFFSETFROM:-0400
TZOFFSETTO:-0500
RDATE:20251102T020000
RDATE:20261101T020000
END:STANDARD
BEGIN:DAYLIGHT
TZNAME:EDT
DTSTART:20250309T020000
TZOFFSETFROM:-0500
TZOFFSETTO:-0400
RDATE:20260308T020000
RDATE:20270314T020000
END:DAYLIGHT
END:VTIMEZONE
BEGIN:VEVENT
UID:9bd49bd5-fdac-46bf-8ee5-592b03bebb0b
DTSTAMP:20260419T212032Z
DESCRIPTION:Dogs are wonderful listeners and love to hear stories being tol
 d to them! Dogs 2 Read 2 is a great chance for kids in grades K-5 to pract
 ice their reading skills with a wonderful and well-behaved pup. Come meet 
 Lady and Sadie and read a story to these special therapy pups!
DTSTART;TZID=America/New_York:20250925T160000
DTEND;TZID=America/New_York:20250925T170000
LOCATION:Grottoes Branch Library\, 301 Dogwood Aevnue\, Grottoes\, VA 24441
  US
SUMMARY:Dogs 2 Read 2 @Grottoes Branch Library
END:VEVENT
END:VCALENDAR
