BEGIN:VCALENDAR
VERSION:2.0
PRODID:-//mrlib.org//NONSGML kigkonsult.se iCalcreator 2.30.10//
CALSCALE:GREGORIAN
METHOD:PUBLISH
UID:1fb5c8f0-bafa-4832-b41f-0b5c15612c44
X-WR-CALDESC:Dogs are wonderful listeners and love to hear stories! Dogs 2 
 Read 2 is a great chance for kids in grades K-5 to practice their reading 
 skills with some wonderful and well-behaved pups. \n\n*All Dogs 2 Read 2 p
 ups are trained and certified through the Alliance of Therapy Dogs*
X-WR-RELCALID:99a7ccd15b4736ac92a1ba36fc6c4b69
X-WR-TIMEZONE:America/New_York
BEGIN:VTIMEZONE
TZID:America/New_York
BEGIN:STANDARD
TZNAME:EST
DTSTART:20241103T020000
TZOFFSETFROM:-0400
TZOFFSETTO:-0500
RDATE:20251102T020000
RDATE:20261101T020000
END:STANDARD
BEGIN:DAYLIGHT
TZNAME:EDT
DTSTART:20250309T020000
TZOFFSETFROM:-0500
TZOFFSETTO:-0400
RDATE:20260308T020000
RDATE:20270314T020000
END:DAYLIGHT
END:VTIMEZONE
BEGIN:VEVENT
UID:45dd2019-8363-43d7-903a-8588852e0353
DTSTAMP:20260419T205838Z
DESCRIPTION:Dogs are wonderful listeners and love to hear stories! Dogs 2 R
 ead 2 is a great chance for kids in grades K-5 to practice their reading s
 kills with some wonderful and well-behaved pups. \n\n*All Dogs 2 Read 2 pu
 ps are trained and certified through the Alliance of Therapy Dogs*
DTSTART;TZID=America/New_York:20250925T163000
DTEND;TZID=America/New_York:20250925T173000
LOCATION:Central Library\, 174 S. Main Street\, Harrisonburg\, VA 22801 US
SUMMARY:Dogs 2 Read 2 @Central Library
END:VEVENT
END:VCALENDAR
