BEGIN:VCALENDAR
VERSION:2.0
PRODID:-//mrlib.org//NONSGML kigkonsult.se iCalcreator 2.30.10//
CALSCALE:GREGORIAN
METHOD:PUBLISH
UID:977e7f9b-8f81-4032-81cc-377cc4e65d05
X-WR-CALDESC:Shop Central Library's Book Sale and directly support our nonp
 rofit mission! \n\nThursday: 10AM-6PM\nFriday: Noon - 3PM\nSaturday: Noon-
  3PM\n\nAdult Books $1 each\; children's titles $.25 each - cash and credi
 t card accepted.\n\nPLUS\, shop our Garage Sale on Friday and Saturday for
  heavily-discounted furniture pieces! Each purchase will directly support 
 our programs and services AND create space for our Youth Services Departme
 nt. Items must be picked up by 6:00 PM on Monday\, September 29th.
X-WR-RELCALID:6bb1b18a647728be9bc36ea4e933e365
X-WR-TIMEZONE:America/New_York
BEGIN:VTIMEZONE
TZID:America/New_York
BEGIN:STANDARD
TZNAME:EST
DTSTART:20241103T020000
TZOFFSETFROM:-0400
TZOFFSETTO:-0500
RDATE:20251102T020000
RDATE:20261101T020000
END:STANDARD
BEGIN:DAYLIGHT
TZNAME:EDT
DTSTART:20250309T020000
TZOFFSETFROM:-0500
TZOFFSETTO:-0400
RDATE:20260308T020000
RDATE:20270314T020000
END:DAYLIGHT
END:VTIMEZONE
BEGIN:VEVENT
UID:4d481e37-fd69-4f7e-94d0-b3a36322432a
DTSTAMP:20260419T205106Z
DESCRIPTION:Shop Central Library's Book Sale and directly support our nonpr
 ofit mission! \n\nThursday: 10AM-6PM\nFriday: Noon - 3PM\nSaturday: Noon- 
 3PM\n\nAdult Books $1 each\; children's titles $.25 each - cash and credit
  card accepted.\n\nPLUS\, shop our Garage Sale on Friday and Saturday for 
 heavily-discounted furniture pieces! Each purchase will directly support o
 ur programs and services AND create space for our Youth Services Departmen
 t. Items must be picked up by 6:00 PM on Monday\, September 29th.
DTSTART;TZID=America/New_York:20250925T060000
DTEND;TZID=America/New_York:20250927T060001
LOCATION:Central Library\, 174 S. Main Street\, Harrisonburg\, VA 22801 US
SUMMARY:Book Sale @Central Library
END:VEVENT
END:VCALENDAR
