BEGIN:VCALENDAR
VERSION:2.0
PRODID:-//mrlib.org//NONSGML kigkonsult.se iCalcreator 2.30.10//
CALSCALE:GREGORIAN
METHOD:PUBLISH
UID:6ba634f7-b859-4f4c-a81a-edda972d0aab
X-WR-CALDESC:Elementary school kids: drop in to Shenandoah Community Librar
 y between 10:00 AM and 2:00 PM to build using LEGOs\, Keva planks\, and ot
 her fun blocks!
X-WR-RELCALID:44d23dccd5cc8851e27c0f2aeff9131b
X-WR-TIMEZONE:America/New_York
BEGIN:VTIMEZONE
TZID:America/New_York
BEGIN:STANDARD
TZNAME:EST
DTSTART:20241103T020000
TZOFFSETFROM:-0400
TZOFFSETTO:-0500
RDATE:20251102T020000
RDATE:20261101T020000
END:STANDARD
BEGIN:DAYLIGHT
TZNAME:EDT
DTSTART:20250309T020000
TZOFFSETFROM:-0500
TZOFFSETTO:-0400
RDATE:20260308T020000
RDATE:20270314T020000
END:DAYLIGHT
END:VTIMEZONE
BEGIN:VEVENT
UID:cc86898c-5add-47cb-ae9f-0b940d066a42
DTSTAMP:20260419T205114Z
DESCRIPTION:Elementary school kids: drop in to Shenandoah Community Library
  between 10:00 AM and 2:00 PM to build using LEGOs\, Keva planks\, and oth
 er fun blocks!
DTSTART;TZID=America/New_York:20250927T100000
DTEND;TZID=America/New_York:20250927T140000
LOCATION:Shenandoah Community Library\, 418 S. Third Street\, Shenandoah\, 
 VA 22849 US
SUMMARY:Build It Up @Shenandoah Community Library
END:VEVENT
END:VCALENDAR
