BEGIN:VCALENDAR
VERSION:2.0
PRODID:-//mrlib.org//NONSGML kigkonsult.se iCalcreator 2.30.10//
CALSCALE:GREGORIAN
METHOD:PUBLISH
UID:a1f12abe-f7f9-4c15-9f5f-919f08e6ea08
X-WR-CALDESC:School-age kids: use your imaginations to create with our colo
 rful LEGO bricks!
X-WR-RELCALID:1aa9c5e8de0742e591694c347acd400b
X-WR-TIMEZONE:America/New_York
BEGIN:VTIMEZONE
TZID:America/New_York
BEGIN:STANDARD
TZNAME:EST
DTSTART:20241103T020000
TZOFFSETFROM:-0400
TZOFFSETTO:-0500
RDATE:20251102T020000
RDATE:20261101T020000
END:STANDARD
BEGIN:DAYLIGHT
TZNAME:EDT
DTSTART:20250309T020000
TZOFFSETFROM:-0500
TZOFFSETTO:-0400
RDATE:20260308T020000
RDATE:20270314T020000
END:DAYLIGHT
END:VTIMEZONE
BEGIN:VEVENT
UID:3b322287-b36f-4b3c-9243-98cbc1ce0019
DTSTAMP:20260419T205249Z
DESCRIPTION:School-age kids: use your imaginations to create with our color
 ful LEGO bricks!
DTSTART;TZID=America/New_York:20250927T110000
DTEND;TZID=America/New_York:20250927T120000
LOCATION:Village Library\, 175 N. Main Street\, Broadway\, VA 22815 US
SUMMARY:LEGO Build Time @Village Library
END:VEVENT
END:VCALENDAR
