BEGIN:VCALENDAR
VERSION:2.0
PRODID:-//mrlib.org//NONSGML kigkonsult.se iCalcreator 2.30.10//
CALSCALE:GREGORIAN
METHOD:PUBLISH
UID:19f11b60-e781-4949-86d3-7dd4f64abef9
X-WR-CALDESC:Kids of all ages: join us for a cozy Story Time to celebrate H
 obbit Day\, with all of the cottagecore vibes and special guest Summer Eng
 land! Make sure to dress up in your favorite gingham\, Hobbit attire\, etc
 . \n\nSummer N. England (yes\, that's her real name!) holds two degrees in
  Shakespeare and Performance. She's a debut cozy fantasy author\, actor\, 
 music director\, artist\, and connoisseur of all things cozy! When not bla
 bbering on stage and writing off stage\, you can find her doing quite lite
 rally 17\,000 different ADHD-motivated projects around her house\, water c
 oloring\, playing the decidedly evil pirate to her kid's morally gray pira
 te\, reading whilst walking\, and NOT sitting while watching When Harry Me
 t Sally for the 6th time in one day.
X-WR-RELCALID:93556d834748a6a143a76909baaf644d
X-WR-TIMEZONE:America/New_York
BEGIN:VTIMEZONE
TZID:America/New_York
BEGIN:STANDARD
TZNAME:EST
DTSTART:20241103T020000
TZOFFSETFROM:-0400
TZOFFSETTO:-0500
RDATE:20251102T020000
RDATE:20261101T020000
END:STANDARD
BEGIN:DAYLIGHT
TZNAME:EDT
DTSTART:20250309T020000
TZOFFSETFROM:-0500
TZOFFSETTO:-0400
RDATE:20260308T020000
RDATE:20270314T020000
END:DAYLIGHT
END:VTIMEZONE
BEGIN:VEVENT
UID:19d5e727-27c4-4553-be12-893c6de46e76
DTSTAMP:20260419T205106Z
DESCRIPTION:Kids of all ages: join us for a cozy Story Time to celebrate Ho
 bbit Day\, with all of the cottagecore vibes and special guest Summer Engl
 and! Make sure to dress up in your favorite gingham\, Hobbit attire\, etc.
  \n\nSummer N. England (yes\, that's her real name!) holds two degrees in 
 Shakespeare and Performance. She's a debut cozy fantasy author\, actor\, m
 usic director\, artist\, and connoisseur of all things cozy! When not blab
 bering on stage and writing off stage\, you can find her doing quite liter
 ally 17\,000 different ADHD-motivated projects around her house\, water co
 loring\, playing the decidedly evil pirate to her kid's morally gray pirat
 e\, reading whilst walking\, and NOT sitting while watching When Harry Met
  Sally for the 6th time in one day.
DTSTART;TZID=America/New_York:20250927T103000
DTEND;TZID=America/New_York:20250927T110000
LOCATION:Central Library\, 174 S. Main Street\, Harrisonburg\, VA 22801 US
SUMMARY:Whimsical Story Time @Central Library
END:VEVENT
END:VCALENDAR
