BEGIN:VCALENDAR
VERSION:2.0
PRODID:-//mrlib.org//NONSGML kigkonsult.se iCalcreator 2.30.10//
CALSCALE:GREGORIAN
METHOD:PUBLISH
UID:2a85bc2e-582d-4e70-a19b-711f1499c609
X-WR-CALDESC:Kids ages 0-5 can join us for a spot of fruity tea with yummy 
 snacks and fun books and songs!
X-WR-RELCALID:f7b8716cce43fb45e091acf14fb12e69
X-WR-TIMEZONE:America/New_York
BEGIN:VTIMEZONE
TZID:America/New_York
BEGIN:STANDARD
TZNAME:EST
DTSTART:20241103T020000
TZOFFSETFROM:-0400
TZOFFSETTO:-0500
RDATE:20251102T020000
RDATE:20261101T020000
END:STANDARD
BEGIN:DAYLIGHT
TZNAME:EDT
DTSTART:20250309T020000
TZOFFSETFROM:-0500
TZOFFSETTO:-0400
RDATE:20260308T020000
RDATE:20270314T020000
END:DAYLIGHT
END:VTIMEZONE
BEGIN:VEVENT
UID:51063c00-6a18-4341-9fd2-5bc8a5dc87df
DTSTAMP:20260419T212348Z
DESCRIPTION:Kids ages 0-5 can join us for a spot of fruity tea with yummy s
 nacks and fun books and songs!
DTSTART;TZID=America/New_York:20250930T110000
DTEND;TZID=America/New_York:20250930T120000
LOCATION:Shenandoah Community Library\, 418 S. Third Street\, Shenandoah\, 
 VA 22849 US
SUMMARY:Tea Party Story Time @Shenandoah Community Library
END:VEVENT
END:VCALENDAR
