BEGIN:VCALENDAR
VERSION:2.0
PRODID:-//mrlib.org//NONSGML kigkonsult.se iCalcreator 2.30.10//
CALSCALE:GREGORIAN
METHOD:PUBLISH
UID:2201fd1b-33c7-4be7-90f7-9555de17542d
X-WR-CALDESC:Kids ages 3-10 are invited to Elkton Community Library for a c
 olorful craft using leaves and other fall items\, with Lois Ehlert's book\
 , 'Leaf Man\,' as our inspiration! Please bring leaves and fall items - ac
 orns\, seeds\, twigs\, etc. - with you to the program. We'll provide the r
 est of the supplies!
X-WR-RELCALID:20e71eab99d03f41cddb9b9b3bed6b45
X-WR-TIMEZONE:America/New_York
BEGIN:VTIMEZONE
TZID:America/New_York
BEGIN:STANDARD
TZNAME:EST
DTSTART:20241103T020000
TZOFFSETFROM:-0400
TZOFFSETTO:-0500
RDATE:20251102T020000
RDATE:20261101T020000
END:STANDARD
BEGIN:DAYLIGHT
TZNAME:EDT
DTSTART:20250309T020000
TZOFFSETFROM:-0500
TZOFFSETTO:-0400
RDATE:20260308T020000
RDATE:20270314T020000
END:DAYLIGHT
END:VTIMEZONE
BEGIN:VEVENT
UID:06362310-aba6-4eca-a080-4c54b0eec602
DTSTAMP:20260419T191314Z
DESCRIPTION:Kids ages 3-10 are invited to Elkton Community Library for a co
 lorful craft using leaves and other fall items\, with Lois Ehlert's book\,
  'Leaf Man\,' as our inspiration! Please bring leaves and fall items - aco
 rns\, seeds\, twigs\, etc. - with you to the program. We'll provide the re
 st of the supplies!
DTSTART;TZID=America/New_York:20251001T153000
DTEND;TZID=America/New_York:20251001T170000
LOCATION:Elkton Community Library\, 106 N. Terrace Avenue\, Elkton\, VA 228
 27 US
SUMMARY:Leaf Man Craft @Elkton Community Library
END:VEVENT
END:VCALENDAR
