BEGIN:VCALENDAR
VERSION:2.0
PRODID:-//mrlib.org//NONSGML kigkonsult.se iCalcreator 2.30.10//
CALSCALE:GREGORIAN
METHOD:PUBLISH
UID:349ffc53-b203-4469-a91e-9588e4f4a5ac
X-WR-CALDESC:Shop at Gift & Thrift on Friday\, October 3rd to help raise fu
 nds for Massanutten Regional Library! 10% of the day's sales will go towar
 ds helping your favorite local library.
X-WR-RELCALID:4ab61d2a7a59b04cf66ea0fb0a7e0bfa
X-WR-TIMEZONE:America/New_York
BEGIN:VTIMEZONE
TZID:America/New_York
BEGIN:STANDARD
TZNAME:EST
DTSTART:20241103T020000
TZOFFSETFROM:-0400
TZOFFSETTO:-0500
RDATE:20251102T020000
RDATE:20261101T020000
END:STANDARD
BEGIN:DAYLIGHT
TZNAME:EDT
DTSTART:20250309T020000
TZOFFSETFROM:-0500
TZOFFSETTO:-0400
RDATE:20260308T020000
RDATE:20270314T020000
END:DAYLIGHT
END:VTIMEZONE
BEGIN:VEVENT
UID:fff3f7fe-2595-4ec3-9311-5a1f1dc09be7
DTSTAMP:20260419T191138Z
DESCRIPTION:Shop at Gift & Thrift on Friday\, October 3rd to help raise fun
 ds for Massanutten Regional Library! 10% of the day's sales will go toward
 s helping your favorite local library.
DTSTART;TZID=America/New_York:20251003T110000
DTEND;TZID=America/New_York:20251003T170000
LOCATION:Gift & Thrift\, 731 Mt Clinton Pike\, Harrisonburg\, VA 22802 US
SUMMARY:MRL Fundraiser @Gift & Thrift
END:VEVENT
END:VCALENDAR
